BEGIN:VCALENDAR
VERSION:2.0
PRODID:jazz-concerts.com
METHOD:PUBLISH
SEQUENCE:1776654426
BEGIN:VEVENT
UID:jazz-concerts.com-1-37272
DTSTAMP:20260420T050706
DTSTART:20261115T180000
DTEND:20261115T200000
SUMMARY:JazzCube Trio
LOCATION:Seniorenzentrum Bildung + Kultur (SeZe) Konstanz\, Deutschland
DESCRIPTION:Tickets / Eintrittskarten: https://jazz-concerts.com/de/event/37272\n\nJazzCube Trio\n\n
END:VEVENT
END:VCALENDAR
