BEGIN:VCALENDAR
VERSION:2.0
PRODID:jazz-concerts.com
METHOD:PUBLISH
SEQUENCE:1776621831
BEGIN:VEVENT
UID:jazz-concerts.com-1-37508
DTSTAMP:20260419T200351
DTSTART:20260430T200000
DTEND:20260430T220000
SUMMARY:Götz Alsmann
LOCATION:Stadthalle Rheinberg Rheinberg\, Deutschland
DESCRIPTION:Tickets / Eintrittskarten: https://jazz-concerts.com/de/event/37508\n\nGötz Alsmann\n\n
END:VEVENT
END:VCALENDAR
