BEGIN:VCALENDAR
VERSION:2.0
PRODID:jazz-concerts.com
METHOD:PUBLISH
SEQUENCE:1776617004
BEGIN:VEVENT
UID:jazz-concerts.com-1-37593
DTSTAMP:20260419T184324
DTSTART:20260428T200000
DTEND:20260428T220000
SUMMARY:Max Raabe & Palast Orchester
LOCATION:Beethoven-Saal | Kultur- und Kongresszentrum Liederhalle Berliner Platz 1\, 70174 Stuttgart\, Deutschland
DESCRIPTION:Tickets / Eintrittskarten: https://jazz-concerts.com/de/event/37593\n\nMax Raabe & Palast Orchester\n\n
END:VEVENT
END:VCALENDAR
