BEGIN:VCALENDAR
VERSION:2.0
PRODID:jazz-concerts.com
METHOD:PUBLISH
SEQUENCE:1776617005
BEGIN:VEVENT
UID:jazz-concerts.com-1-37597
DTSTAMP:20260419T184325
DTSTART:20260515T200000
DTEND:20260515T220000
SUMMARY:Max Raabe & Palast Orchester
LOCATION:CongressPark Wolfsburg GmbH Heinrich-Heine-Straße\, 38440 Wolfsburg\, Deutschland
DESCRIPTION:Tickets / Eintrittskarten: https://jazz-concerts.com/de/event/37597\n\nMax Raabe & Palast Orchester\n\n
END:VEVENT
END:VCALENDAR
