BEGIN:VCALENDAR
VERSION:2.0
PRODID:jazz-concerts.com
METHOD:PUBLISH
SEQUENCE:1776637122
BEGIN:VEVENT
UID:jazz-concerts.com-1-38624
DTSTAMP:20260420T001842
DTSTART:20260420T200000
DTEND:20260420T220000
SUMMARY:Jamie Cullum
LOCATION:Teatr Wielki plac Teatralny 1\, 00-950 Warszawa\, Polen
DESCRIPTION:Tickets / Eintrittskarten: https://jazz-concerts.com/de/event/38624\n\nJamie Cullum\n\n
END:VEVENT
END:VCALENDAR
