BEGIN:VCALENDAR
VERSION:2.0
PRODID:jazz-concerts.com
METHOD:PUBLISH
SEQUENCE:1776612743
BEGIN:VEVENT
UID:jazz-concerts.com-1-39122
DTSTAMP:20260419T173223
DTSTART:20260421T200000
DTEND:20260421T220000
SUMMARY:Tom Gaebel & his Orchestra
LOCATION:Theater am Tanzbrunnen Rheinparkweg 150679\, 50679 Köln\, Deutschland
DESCRIPTION:Tickets / Eintrittskarten: https://jazz-concerts.com/de/event/39122\n\nTom Gaebel & his Orchestra\n\n
END:VEVENT
END:VCALENDAR
