BEGIN:VCALENDAR
VERSION:2.0
PRODID:jazz-concerts.com
METHOD:PUBLISH
SEQUENCE:1776617599
BEGIN:VEVENT
UID:jazz-concerts.com-1-39123
DTSTAMP:20260419T185319
DTSTART:20260422T200000
DTEND:20260422T220000
SUMMARY:Tom Gaebel & his Orchestra
LOCATION:Stadthalle Rheine Humboldtplatz 10\, 48429 Rheine\, Deutschland
DESCRIPTION:Tickets / Eintrittskarten: https://jazz-concerts.com/de/event/39123\n\nTom Gaebel & his Orchestra\n\n
END:VEVENT
END:VCALENDAR
