BEGIN:VCALENDAR
VERSION:2.0
PRODID:jazz-concerts.com
METHOD:PUBLISH
SEQUENCE:1776628220
BEGIN:VEVENT
UID:jazz-concerts.com-1-39346
DTSTAMP:20260419T215020
DTSTART:20261015T200000
DTEND:20261015T220000
SUMMARY:Henrik Freischlader
LOCATION:Soziokulturelles Zentrum Sudhaus Hechinger Straße 203\, 72072 Tübingen\, Deutschland
DESCRIPTION:Tickets / Eintrittskarten: https://jazz-concerts.com/de/event/39346\n\nHenrik Freischlader\n\n
END:VEVENT
END:VCALENDAR
