BEGIN:VCALENDAR
VERSION:2.0
PRODID:jazz-concerts.com
METHOD:PUBLISH
SEQUENCE:1776621830
BEGIN:VEVENT
UID:jazz-concerts.com-1-39501
DTSTAMP:20260419T200350
DTSTART:20260611T193000
DTEND:20260611T213000
SUMMARY:Marcia Bittencourt & Michael Arlt AGORA ( Brazil/D )
LOCATION:Ella & Louis im Holzhausenschlösschen Frankfurt am Main\, Deutschland
DESCRIPTION:Tickets / Eintrittskarten: https://jazz-concerts.com/de/event/39501\n\nMarcia Bittencourt & Michael Arlt AGORA ( Brazil/D )\n\n
END:VEVENT
END:VCALENDAR
