BEGIN:VCALENDAR
VERSION:2.0
PRODID:jazz-concerts.com
METHOD:PUBLISH
SEQUENCE:1776612779
BEGIN:VEVENT
UID:jazz-concerts.com-1-39616
DTSTAMP:20260419T173259
DTSTART:20260423T200000
DTEND:20260423T220000
SUMMARY:The World Famous Glenn Miller Orchestra directed by Uli Plettendorff
LOCATION:Beethovenhalle Bonn Wachsbleiche 16\, 53111 Bonn\, Deutschland
DESCRIPTION:Tickets / Eintrittskarten: https://jazz-concerts.com/de/event/39616\n\nThe World Famous Glenn Miller Orchestra directed by Uli Plettendorff\nSwing Forever\n\n
END:VEVENT
END:VCALENDAR
