BEGIN:VCALENDAR
VERSION:2.0
PRODID:jazz-concerts.com
METHOD:PUBLISH
SEQUENCE:1776635517
BEGIN:VEVENT
UID:jazz-concerts.com-1-40652
DTSTAMP:20260419T235157
DTSTART:20260422T200000
DTEND:20260422T220000
SUMMARY:Till Brönner Band
LOCATION:Kulturpalast Schloßstraße 2\, 01067 Dresden\, Deutschland
DESCRIPTION:Tickets / Eintrittskarten: https://jazz-concerts.com/de/event/40652\n\nTill Brönner Band\n\n
END:VEVENT
END:VCALENDAR
