BEGIN:VCALENDAR
VERSION:2.0
PRODID:jazz-concerts.com
METHOD:PUBLISH
SEQUENCE:1776635502
BEGIN:VEVENT
UID:jazz-concerts.com-1-40752
DTSTAMP:20260419T235142
DTSTART:20260510T180000
DTEND:20260510T200000
SUMMARY:The World Famous Glenn Miller Orchestra directed by Uli Plettendorff
LOCATION:COMÖDIE Dresden Freiberger Straße 39\, 01067 Dresden\, Deutschland
DESCRIPTION:Tickets / Eintrittskarten: https://jazz-concerts.com/de/event/40752\n\nThe World Famous Glenn Miller Orchestra directed by Uli Plettendorff\nSwing Forever\n\n
END:VEVENT
END:VCALENDAR
