BEGIN:VCALENDAR
VERSION:2.0
PRODID:jazz-concerts.com
METHOD:PUBLISH
SEQUENCE:1776617004
BEGIN:VEVENT
UID:jazz-concerts.com-1-40915
DTSTAMP:20260419T184324
DTSTART:20260426T200000
DTEND:20260426T220000
SUMMARY:Boeßner/ Hering/ Fuhr
LOCATION:art.ist Wiesbaden Walkmühle 14\, 65195 Wiesbaden\, Deutschland
DESCRIPTION:Tickets / Eintrittskarten: https://jazz-concerts.com/de/event/40915\n\nBoeßner/ Hering/ Fuhr\n\n
END:VEVENT
END:VCALENDAR
