BEGIN:VCALENDAR
VERSION:2.0
PRODID:jazz-concerts.com
METHOD:PUBLISH
SEQUENCE:1776628209
BEGIN:VEVENT
UID:jazz-concerts.com-1-42061
DTSTAMP:20260419T215009
DTSTART:20260517T190000
DTEND:20260517T210000
SUMMARY:Goran Bregovic & His Wedding & Funeral Orchestra
LOCATION:Kongresshaus Zürich Claridenstrasse 5\, 8002 Zürich\, Schweiz
DESCRIPTION:Tickets / Eintrittskarten: https://jazz-concerts.com/de/event/42061\n\nGoran Bregovic & His Wedding & Funeral Orchestra\n\n
END:VEVENT
END:VCALENDAR
