BEGIN:VCALENDAR
VERSION:2.0
PRODID:jazz-concerts.com
METHOD:PUBLISH
SEQUENCE:1776628205
BEGIN:VEVENT
UID:jazz-concerts.com-1-42086
DTSTAMP:20260419T215005
DTSTART:20260506T203000
DTEND:20260506T223000
SUMMARY:Marc Roos invites
LOCATION:Jazzclub Kiste Hauptstätter Straße 35\, 70173 Stuttgart\, Deutschland
DESCRIPTION:Tickets / Eintrittskarten: https://jazz-concerts.com/de/event/42086\n\nMarc Roos invites\n\n
END:VEVENT
END:VCALENDAR
