BEGIN:VCALENDAR
VERSION:2.0
PRODID:jazz-concerts.com
METHOD:PUBLISH
SEQUENCE:1776618427
BEGIN:VEVENT
UID:jazz-concerts.com-1-42172
DTSTAMP:20260419T190707
DTSTART:20260620T193000
DTEND:20260620T213000
SUMMARY:Herb Alpert & The Tijuana Brass
LOCATION:Plaza Theatre West Mills Avenue 125\, 79901 El Paso\, USA
DESCRIPTION:Tickets / Eintrittskarten: https://jazz-concerts.com/de/event/42172\n\nHerb Alpert & The Tijuana Brass\n\n
END:VEVENT
END:VCALENDAR
