BEGIN:VCALENDAR
VERSION:2.0
PRODID:jazz-concerts.com
METHOD:PUBLISH
SEQUENCE:1776641898
BEGIN:VEVENT
UID:jazz-concerts.com-1-42276
DTSTAMP:20260420T013818
DTSTART:20260906T000000
DTEND:20260906T020000
SUMMARY:Dixie Törn auf der HOHENTWIEL
LOCATION: Lochau\, Österreich
DESCRIPTION:Tickets / Eintrittskarten: https://jazz-concerts.com/de/event/42276\n\nDixie Törn auf der HOHENTWIEL\n14:15 Kaiserstrand Lochau ... 15:30 Lindau\n\n
END:VEVENT
END:VCALENDAR
