BEGIN:VCALENDAR
VERSION:2.0
PRODID:jazz-concerts.com
METHOD:PUBLISH
SEQUENCE:1776617007
BEGIN:VEVENT
UID:jazz-concerts.com-1-42277
DTSTAMP:20260419T184327
DTSTART:20260528T200000
DTEND:20260528T220000
SUMMARY:The World Famous Glenn Miller Orchestra directed by Uli Plettendorff
LOCATION:Kurhaus Freudenstadt Lauterbadstraße 5\, 72250 Freudenstadt\, Deutschland
DESCRIPTION:Tickets / Eintrittskarten: https://jazz-concerts.com/de/event/42277\n\nThe World Famous Glenn Miller Orchestra directed by Uli Plettendorff\nSwing Forever\n«Swing Forever» mit Uli Plettendorff und dem Glenn Miller Orchestra bringt am 28. Mai im Theater Freudenstadt Big Band Sound und Gesang.\n
END:VEVENT
END:VCALENDAR
