BEGIN:VCALENDAR
VERSION:2.0
PRODID:jazz-concerts.com
METHOD:PUBLISH
SEQUENCE:1776617006
BEGIN:VEVENT
UID:jazz-concerts.com-1-42290
DTSTAMP:20260419T184326
DTSTART:20260516T200000
DTEND:20260516T220000
SUMMARY:October London\, Leela James & Eric Benet
LOCATION:Paramount Theatre Broadway 2025\, 94612 Oakland\, USA
DESCRIPTION:Tickets / Eintrittskarten: https://jazz-concerts.com/de/event/42290\n\nOctober London\, Leela James & Eric Benet\n\n
END:VEVENT
END:VCALENDAR
