BEGIN:VCALENDAR
VERSION:2.0
PRODID:jazz-concerts.com
METHOD:PUBLISH
SEQUENCE:1776617009
BEGIN:VEVENT
UID:jazz-concerts.com-1-42296
DTSTAMP:20260419T184329
DTSTART:20260612T213000
DTEND:20260612T233000
SUMMARY:Akio Le & Band - My Nat King Cole Story
LOCATION:Jazzkeller Frankfurt Kleine Bockenheimer Straße 18a\, 60313 Frankfurt am Main\, Deutschland
DESCRIPTION:Tickets / Eintrittskarten: https://jazz-concerts.com/de/event/42296\n\nAkio Le & Band - My Nat King Cole Story\nDiese Hommage an den legendären Crooner Nat King Cole ist nicht nur ein musikalischer Rückblick\, sondern ein Abend voller Emotionen\, Eleganz und zeitloser Jazzklassiker. Mit seiner außergewöhnlich warmen Stimme und charismatischen Bühnenpräsenz verleiht Akio Le den weltbekannten Songs wie Unforgettable oder L-O-V-E eine neue Strahlkraft und lässt den samtweichen Sound vergangener Zeiten wieder aufleben.\n\nDas Publikum erwartet ein abwechslungsreiches Programm\, das von gefühlvollen Balladen bis hin zu mitreißendem Swing reicht. Akio Le & Band schaffen eine Atmosphäre\, die oft beschrieben wird wie ein Glas vollmundiger Rotwein – ehrlich\, entspannt und voller Seele. Jeder Auftritt ist ein Erlebnis\, das sowohl eingefleischte Jazzfans als auch Liebhaber moderner Klänge begeistert.\n\nOb im intimen Club\, auf großen Festivalbühnen oder bei exklusiven Kulturveranstaltungen – „My Nat King Cole Story“ ist ein Konzertabend\, der Herz und Seele gleichermaßen berührt. Sichern Sie sich jetzt Ihre Tickets und erleben Sie live\, wie Akio Le & Band die zeitlose Eleganz von Nat King Cole zurück auf die Bühne bringen.\n
END:VEVENT
END:VCALENDAR
