BEGIN:VCALENDAR
VERSION:2.0
PRODID:jazz-concerts.com
METHOD:PUBLISH
SEQUENCE:1776612757
BEGIN:VEVENT
UID:jazz-concerts.com-1-42320
DTSTAMP:20260419T173237
DTSTART:20260508T200000
DTEND:20260508T220000
SUMMARY:Götz Alsmann
LOCATION:Savoy Theater Graf-Adolf-Straße 47\, 40215 Düsseldorf\, Deutschland
DESCRIPTION:Tickets / Eintrittskarten: https://jazz-concerts.com/de/event/42320\n\nGötz Alsmann\n\n
END:VEVENT
END:VCALENDAR
