BEGIN:VCALENDAR
VERSION:2.0
PRODID:jazz-concerts.com
METHOD:PUBLISH
SEQUENCE:1776618465
BEGIN:VEVENT
UID:jazz-concerts.com-1-42326
DTSTAMP:20260419T190745
DTSTART:20260503T200000
DTEND:20260503T220000
SUMMARY:Götz Alsmann
LOCATION:Paderhalle Paderborn Heiersmauer 45\, 33098 Paderborn\, Deutschland
DESCRIPTION:Tickets / Eintrittskarten: https://jazz-concerts.com/de/event/42326\n\nGötz Alsmann\n\n
END:VEVENT
END:VCALENDAR
