BEGIN:VCALENDAR
VERSION:2.0
PRODID:jazz-concerts.com
METHOD:PUBLISH
SEQUENCE:1776649676
BEGIN:VEVENT
UID:jazz-concerts.com-1-42333
DTSTAMP:20260420T034756
DTSTART:20260721T200000
DTEND:20260721T220000
SUMMARY:Götz Alsmann
LOCATION:Die Wühlmäuse Pommernallee 2-4\, 14052 Berlin\, Deutschland
DESCRIPTION:Tickets / Eintrittskarten: https://jazz-concerts.com/de/event/42333\n\nGötz Alsmann\n\n
END:VEVENT
END:VCALENDAR
