BEGIN:VCALENDAR
VERSION:2.0
PRODID:jazz-concerts.com
METHOD:PUBLISH
SEQUENCE:1776641882
BEGIN:VEVENT
UID:jazz-concerts.com-1-42340
DTSTAMP:20260420T013802
DTSTART:20261025T190000
DTEND:20261025T210000
SUMMARY:Götz Alsmann
LOCATION:Nikolaisaal Potsdam Wilhelm-Staab-Straße 10-11\, 14467 Potsdam\, Deutschland
DESCRIPTION:Tickets / Eintrittskarten: https://jazz-concerts.com/de/event/42340\n\nGötz Alsmann\n\n
END:VEVENT
END:VCALENDAR
