BEGIN:VCALENDAR
VERSION:2.0
PRODID:jazz-concerts.com
METHOD:PUBLISH
SEQUENCE:1776635503
BEGIN:VEVENT
UID:jazz-concerts.com-1-42341
DTSTAMP:20260419T235143
DTSTART:20271024T200000
DTEND:20271024T220000
SUMMARY:Götz Alsmann
LOCATION:Kongresshalle Gießen - Stadthallen GmbH Gießen Südanlage 3\, 35390 Gießen\, Deutschland
DESCRIPTION:Tickets / Eintrittskarten: https://jazz-concerts.com/de/event/42341\n\nGötz Alsmann\n\n
END:VEVENT
END:VCALENDAR
