BEGIN:VCALENDAR
VERSION:2.0
PRODID:jazz-concerts.com
METHOD:PUBLISH
SEQUENCE:1776618436
BEGIN:VEVENT
UID:jazz-concerts.com-1-42349
DTSTAMP:20260419T190716
DTSTART:20260520T200000
DTEND:20260520T220000
SUMMARY:SWR Big-Band + Götz Alsmann
LOCATION:Graf-Zeppelin-Haus Olgastraße 20\, 88045 Friedrichshafen\, Deutschland
DESCRIPTION:Tickets / Eintrittskarten: https://jazz-concerts.com/de/event/42349\n\nSWR Big-Band + Götz Alsmann\n\n
END:VEVENT
END:VCALENDAR
