BEGIN:VCALENDAR
VERSION:2.0
PRODID:jazz-concerts.com
METHOD:PUBLISH
SEQUENCE:1776634139
BEGIN:VEVENT
UID:jazz-concerts.com-1-42351
DTSTAMP:20260419T232859
DTSTART:20260929T200000
DTEND:20260929T220000
SUMMARY:Götz Alsmann & Chris Hopkins
LOCATION:Konzertsaal Friedenskapelle Willy-Brandt-Weg 37B\, 48155 Münster\, Deutschland
DESCRIPTION:Tickets / Eintrittskarten: https://jazz-concerts.com/de/event/42351\n\nGötz Alsmann & Chris Hopkins\n\n
END:VEVENT
END:VCALENDAR
