BEGIN:VCALENDAR
VERSION:2.0
PRODID:jazz-concerts.com
METHOD:PUBLISH
SEQUENCE:1776628198
BEGIN:VEVENT
UID:jazz-concerts.com-1-42352
DTSTAMP:20260419T214958
DTSTART:20261001T200000
DTEND:20261001T220000
SUMMARY:Götz Alsmann
LOCATION:Kulturzentrum Alte Weberei Vechteaue 2\, 48529 Nordhorn\, Deutschland
DESCRIPTION:Tickets / Eintrittskarten: https://jazz-concerts.com/de/event/42352\n\nGötz Alsmann\n\n
END:VEVENT
END:VCALENDAR
