BEGIN:VCALENDAR
VERSION:2.0
PRODID:jazz-concerts.com
METHOD:PUBLISH
SEQUENCE:1776655958
BEGIN:VEVENT
UID:jazz-concerts.com-1-42376
DTSTAMP:20260420T053238
DTSTART:20260708T200000
DTEND:20260708T220000
SUMMARY:Mit 3 Orgeln und 2 Saxophonen um die Welt
LOCATION:Schifferkirche Ahrenshoop Paetowweg 4\, 18347 Ahrenshoop\, Deutschland
DESCRIPTION:Tickets / Eintrittskarten: https://jazz-concerts.com/de/event/42376\n\nMit 3 Orgeln und 2 Saxophonen um die Welt\nIm Konzert verschmelzen Orgelklang und Saxophon auf traumhafte Weise. \nAlte Musik\, Jazz\, Klassik\, Tango\, Choral und Groove verbinden sich zu einer großen musikalischen Reise durch die Welt und zu sich selbst.\n
END:VEVENT
END:VCALENDAR
