BEGIN:VCALENDAR
VERSION:2.0
PRODID:jazz-concerts.com
METHOD:PUBLISH
SEQUENCE:1776628309
BEGIN:VEVENT
UID:jazz-concerts.com-1-42398
DTSTAMP:20260419T215149
DTSTART:20260425T210000
DTEND:20260425T230000
SUMMARY:New Sound Jazz Machine
LOCATION:Poppodium Twente | Metropool Willem Wilminkplein 2\, 7511 PG Enschede\, Niederlande
DESCRIPTION:Tickets / Eintrittskarten: https://jazz-concerts.com/de/event/42398\n\nNew Sound Jazz Machine\n\n
END:VEVENT
END:VCALENDAR
