BEGIN:VCALENDAR
VERSION:2.0
PRODID:jazz-concerts.com
METHOD:PUBLISH
SEQUENCE:1776628219
BEGIN:VEVENT
UID:jazz-concerts.com-1-42400
DTSTAMP:20260419T215019
DTSTART:20260430T210000
DTEND:20260430T230000
SUMMARY:Guy Forsyth
LOCATION:Metropool (locatie Hengelo) Industrieplein 10\, 7553 LL Hengelo\, Niederlande
DESCRIPTION:Tickets / Eintrittskarten: https://jazz-concerts.com/de/event/42400\n\nGuy Forsyth\n\n
END:VEVENT
END:VCALENDAR
