BEGIN:VCALENDAR
VERSION:2.0
PRODID:jazz-concerts.com
METHOD:PUBLISH
SEQUENCE:1776628221
BEGIN:VEVENT
UID:jazz-concerts.com-1-42407
DTSTAMP:20260419T215021
DTSTART:20260418T200000
DTEND:20260418T220000
SUMMARY:Masha Bijlsma
LOCATION:Jazz-Kneipe Baßgeige - Braunschweig Bäckerklint 1\, 38100 Braunschweig\, Deutschland
DESCRIPTION:Tickets / Eintrittskarten: https://jazz-concerts.com/de/event/42407\n\nMasha Bijlsma\n\n
END:VEVENT
END:VCALENDAR
