BEGIN:VCALENDAR
VERSION:2.0
PRODID:jazz-concerts.com
METHOD:PUBLISH
SEQUENCE:1776618432
BEGIN:VEVENT
UID:jazz-concerts.com-1-42408
DTSTAMP:20260419T190712
DTSTART:20260424T200000
DTEND:20260424T220000
SUMMARY:Grant Stewart Quartet
LOCATION:Unity Jazz | Jazz club & Restaurant Kyrkogatan 13\, 411 15 Göteborg\, Schweden
DESCRIPTION:Tickets / Eintrittskarten: https://jazz-concerts.com/de/event/42408\n\nGrant Stewart Quartet\n\n
END:VEVENT
END:VCALENDAR
