BEGIN:VCALENDAR
VERSION:2.0
PRODID:jazz-concerts.com
METHOD:PUBLISH
SEQUENCE:1776611177
BEGIN:VEVENT
UID:jazz-concerts.com-1-42409
DTSTAMP:20260419T170617
DTSTART:20260522T213000
DTEND:20260522T233000
SUMMARY:Martin Sasse Solo
LOCATION:Schloss Elmau In Elmau 2\, 82493 Krün\, Deutschland
DESCRIPTION:Tickets / Eintrittskarten: https://jazz-concerts.com/de/event/42409\n\nMartin Sasse Solo\n\n
END:VEVENT
END:VCALENDAR
