BEGIN:VCALENDAR
VERSION:2.0
PRODID:jazz-concerts.com
METHOD:PUBLISH
SEQUENCE:1776617006
BEGIN:VEVENT
UID:jazz-concerts.com-1-42413
DTSTAMP:20260419T184326
DTSTART:20260529T190000
DTEND:20260529T210000
SUMMARY:Martin Sasse Solo
LOCATION:Kalkhof-Rose-Saal Geschwister-Scholl-Straße 2\, 55131 Mainz\, Deutschland
DESCRIPTION:Tickets / Eintrittskarten: https://jazz-concerts.com/de/event/42413\n\nMartin Sasse Solo\n\n
END:VEVENT
END:VCALENDAR
