BEGIN:VCALENDAR
VERSION:2.0
PRODID:jazz-concerts.com
METHOD:PUBLISH
SEQUENCE:1776611174
BEGIN:VEVENT
UID:jazz-concerts.com-1-42452
DTSTAMP:20260419T170614
DTSTART:20261015T200000
DTEND:20261015T220000
SUMMARY:The World Famous Glenn Miller Orchestra directed by Uli Plettendorff
LOCATION:Stadthalle Fürth Rosenstraße 50\, 90762 Fürth\, Deutschland
DESCRIPTION:Tickets / Eintrittskarten: https://jazz-concerts.com/de/event/42452\n\nThe World Famous Glenn Miller Orchestra directed by Uli Plettendorff\nSwing Forever\nGLENN MILLER ORCHESTRA DIRECTED BY ULI PLETTENDORFF –
THE LICENSED ORCHESTRA FOR EUROPE
WITH PERMISSION AND AUTHORITY OF GLENN MILLER PRODUCTIONS\, INC.\, NEW YORK\, USA.
Bei dem Programm „SWING FOREVER“ dreht sich alles um die unvergessliche Musik von Glenn Miller\, der zu Lebzeiten mit seinem einzigartigen Sound untrennbar mit der Big Band Ära verbunden war. 
Die Show bietet nicht nur instrumentale Meisterwerke\, sondern legt auch großen Wert auf den vokalen Teil. Die talentierte Bandsängerin sowie die fünfstimmige Vocalgroup „Moonlight Serenaders“\, inspiriert von den Modernaires\, sorgen für weitere Höhepunkte der Show und laden dazu ein\, in die goldenen Zeiten vergangener Jahrzehnte einzutauchen.
Zusammengefasst: Erleben Sie eine grandiose Show im Sweet- und Swing-Sound.
Sichern Sie sich jetzt Ihre Tickets für einen beswingten Abend mit Uli Plettendorff und dem Glenn Miller Orchestra!
Donnerstag\, 15.10.2026\, 20 Uhr\, Stadthalle\, Fürth.
KARTENVORVERKAUF
An allen bekannten Vorverkaufsstellen.
WEITERE INFOS & TICKETS PER POST
Phone +49 61 85 / 81 86 22
www.glenn-miller.de\n
END:VEVENT
END:VCALENDAR
