BEGIN:VCALENDAR
VERSION:2.0
PRODID:jazz-concerts.com
METHOD:PUBLISH
SEQUENCE:1776618431
BEGIN:VEVENT
UID:jazz-concerts.com-1-42490
DTSTAMP:20260419T190711
DTSTART:20261021T200000
DTEND:20261021T220000
SUMMARY:Lizz Wright
LOCATION:Kulturetage Bahnhofstraße 11\, 26122 Oldenburg\, Deutschland
DESCRIPTION:Tickets / Eintrittskarten: https://jazz-concerts.com/de/event/42490\n\nLizz Wright\n\n
END:VEVENT
END:VCALENDAR
