BEGIN:VCALENDAR
VERSION:2.0
PRODID:jazz-concerts.com
METHOD:PUBLISH
SEQUENCE:1776628313
BEGIN:VEVENT
UID:jazz-concerts.com-1-42552
DTSTAMP:20260419T215153
DTSTART:20261128T190000
DTEND:20261128T210000
SUMMARY:Max Raabe & Palast Orchester
LOCATION:Festspielhaus Baden-Baden Beim Alten Bahnhof 2\, 76530 Baden-Baden\, Deutschland
DESCRIPTION:Tickets / Eintrittskarten: https://jazz-concerts.com/de/event/42552\n\nMax Raabe & Palast Orchester\n\n
END:VEVENT
END:VCALENDAR
