BEGIN:VCALENDAR
VERSION:2.0
PRODID:jazz-concerts.com
METHOD:PUBLISH
SEQUENCE:1776635557
BEGIN:VEVENT
UID:jazz-concerts.com-1-42555
DTSTAMP:20260419T235237
DTSTART:20261214T200000
DTEND:20261214T220000
SUMMARY:Max Raabe & Palast Orchester
LOCATION:Kulturpalast Schloßstraße 2\, 01067 Dresden\, Deutschland
DESCRIPTION:Tickets / Eintrittskarten: https://jazz-concerts.com/de/event/42555\n\nMax Raabe & Palast Orchester\n\n
END:VEVENT
END:VCALENDAR
