BEGIN:VCALENDAR
VERSION:2.0
PRODID:jazz-concerts.com
METHOD:PUBLISH
SEQUENCE:1776663386
BEGIN:VEVENT
UID:jazz-concerts.com-1-42593
DTSTAMP:20260420T073626
DTSTART:20270426T200000
DTEND:20270426T220000
SUMMARY:Max Raabe & Palast Orchester
LOCATION:Historische Stadthalle Wuppertal GmbH Johannisberg 40\, 42103 Wuppertal\, Deutschland
DESCRIPTION:Tickets / Eintrittskarten: https://jazz-concerts.com/de/event/42593\n\nMax Raabe & Palast Orchester\n\n
END:VEVENT
END:VCALENDAR
