BEGIN:VCALENDAR
VERSION:2.0
PRODID:jazz-concerts.com
METHOD:PUBLISH
SEQUENCE:1776635516
BEGIN:VEVENT
UID:jazz-concerts.com-1-42619
DTSTAMP:20260419T235156
DTSTART:20260721T210000
DTEND:20260721T230000
SUMMARY:Fred Hersch Trio
LOCATION:Jazz in Marciac Place du Chevalier d'Antras 8\, 32230 Marciac\, Frankreich
DESCRIPTION:Tickets / Eintrittskarten: https://jazz-concerts.com/de/event/42619\n\nFred Hersch Trio\n\n
END:VEVENT
END:VCALENDAR
