BEGIN:VCALENDAR
VERSION:2.0
PRODID:jazz-concerts.com
METHOD:PUBLISH
SEQUENCE:1776635517
BEGIN:VEVENT
UID:jazz-concerts.com-1-42620
DTSTAMP:20260419T235157
DTSTART:20260721T230000
DTEND:20260722T010000
SUMMARY:Samara Joy
LOCATION:Jazz in Marciac Place du Chevalier d'Antras 8\, 32230 Marciac\, Frankreich
DESCRIPTION:Tickets / Eintrittskarten: https://jazz-concerts.com/de/event/42620\n\nSamara Joy\n\n
END:VEVENT
END:VCALENDAR
