BEGIN:VCALENDAR
VERSION:2.0
PRODID:jazz-concerts.com
METHOD:PUBLISH
SEQUENCE:1776635440
BEGIN:VEVENT
UID:jazz-concerts.com-1-42621
DTSTAMP:20260419T235040
DTSTART:20260722T210000
DTEND:20260722T230000
SUMMARY:Émile Parisien - Floating
LOCATION:Jazz in Marciac Place du Chevalier d'Antras 8\, 32230 Marciac\, Frankreich
DESCRIPTION:Tickets / Eintrittskarten: https://jazz-concerts.com/de/event/42621\n\nÉmile Parisien - Floating\n\n
END:VEVENT
END:VCALENDAR
