BEGIN:VCALENDAR
VERSION:2.0
PRODID:jazz-concerts.com
METHOD:PUBLISH
SEQUENCE:1776635513
BEGIN:VEVENT
UID:jazz-concerts.com-1-42624
DTSTAMP:20260419T235153
DTSTART:20260723T230000
DTEND:20260724T010000
SUMMARY:Keziah Jones
LOCATION:Jazz in Marciac Place du Chevalier d'Antras 8\, 32230 Marciac\, Frankreich
DESCRIPTION:Tickets / Eintrittskarten: https://jazz-concerts.com/de/event/42624\n\nKeziah Jones\n\n
END:VEVENT
END:VCALENDAR
