BEGIN:VCALENDAR
VERSION:2.0
PRODID:jazz-concerts.com
METHOD:PUBLISH
SEQUENCE:1776646528
BEGIN:VEVENT
UID:jazz-concerts.com-1-42625
DTSTAMP:20260420T025528
DTSTART:20260724T210000
DTEND:20260724T230000
SUMMARY:Bill Charlap Trio
LOCATION:Jazz in Marciac Place du Chevalier d'Antras 8\, 32230 Marciac\, Frankreich
DESCRIPTION:Tickets / Eintrittskarten: https://jazz-concerts.com/de/event/42625\n\nBill Charlap Trio\n\n
END:VEVENT
END:VCALENDAR
