BEGIN:VCALENDAR
VERSION:2.0
PRODID:jazz-concerts.com
METHOD:PUBLISH
SEQUENCE:1776635515
BEGIN:VEVENT
UID:jazz-concerts.com-1-42626
DTSTAMP:20260419T235155
DTSTART:20260724T230000
DTEND:20260725T010000
SUMMARY:Pat Metheny - Side Eye
LOCATION:Jazz in Marciac Place du Chevalier d'Antras 8\, 32230 Marciac\, Frankreich
DESCRIPTION:Tickets / Eintrittskarten: https://jazz-concerts.com/de/event/42626\n\nPat Metheny - Side Eye\n\n
END:VEVENT
END:VCALENDAR
