BEGIN:VCALENDAR
VERSION:2.0
PRODID:jazz-concerts.com
METHOD:PUBLISH
SEQUENCE:1776618434
BEGIN:VEVENT
UID:jazz-concerts.com-1-42629
DTSTAMP:20260419T190714
DTSTART:20260726T230000
DTEND:20260727T010000
SUMMARY:Avishai Cohen Trio
LOCATION:Jazz in Marciac Place du Chevalier d'Antras 8\, 32230 Marciac\, Frankreich
DESCRIPTION:Tickets / Eintrittskarten: https://jazz-concerts.com/de/event/42629\n\nAvishai Cohen Trio\n\n
END:VEVENT
END:VCALENDAR
