BEGIN:VCALENDAR
VERSION:2.0
PRODID:jazz-concerts.com
METHOD:PUBLISH
SEQUENCE:1776635516
BEGIN:VEVENT
UID:jazz-concerts.com-1-42631
DTSTAMP:20260419T235156
DTSTART:20260727T230000
DTEND:20260728T010000
SUMMARY:Asaf Avidan
LOCATION:Jazz in Marciac Place du Chevalier d'Antras 8\, 32230 Marciac\, Frankreich
DESCRIPTION:Tickets / Eintrittskarten: https://jazz-concerts.com/de/event/42631\n\nAsaf Avidan\n\n
END:VEVENT
END:VCALENDAR
