BEGIN:VCALENDAR
VERSION:2.0
PRODID:jazz-concerts.com
METHOD:PUBLISH
SEQUENCE:1776635520
BEGIN:VEVENT
UID:jazz-concerts.com-1-42632
DTSTAMP:20260419T235200
DTSTART:20260728T210000
DTEND:20260728T230000
SUMMARY:James Carter - Trane: A Centennial Supreme
LOCATION:Jazz in Marciac Place du Chevalier d'Antras 8\, 32230 Marciac\, Frankreich
DESCRIPTION:Tickets / Eintrittskarten: https://jazz-concerts.com/de/event/42632\n\nJames Carter - Trane: A Centennial Supreme\n\n
END:VEVENT
END:VCALENDAR
