BEGIN:VCALENDAR
VERSION:2.0
PRODID:jazz-concerts.com
METHOD:PUBLISH
SEQUENCE:1776635519
BEGIN:VEVENT
UID:jazz-concerts.com-1-42633
DTSTAMP:20260419T235159
DTSTART:20260728T230000
DTEND:20260729T010000
SUMMARY:Marcus Miller
LOCATION:Jazz in Marciac Place du Chevalier d'Antras 8\, 32230 Marciac\, Frankreich
DESCRIPTION:Tickets / Eintrittskarten: https://jazz-concerts.com/de/event/42633\n\nMarcus Miller\n\n
END:VEVENT
END:VCALENDAR
